BEGIN:VCALENDAR
VERSION:2.0
PRODID:-//Palm Beach County PBA - ECPv6.15.20//NONSGML v1.0//EN
CALSCALE:GREGORIAN
METHOD:PUBLISH
X-ORIGINAL-URL:https://pbcpba.org
X-WR-CALDESC:Events for Palm Beach County PBA
REFRESH-INTERVAL;VALUE=DURATION:PT1H
X-Robots-Tag:noindex
X-PUBLISHED-TTL:PT1H
BEGIN:VTIMEZONE
TZID:America/New_York
BEGIN:DAYLIGHT
TZOFFSETFROM:-0500
TZOFFSETTO:-0400
TZNAME:EDT
DTSTART:20210314T070000
END:DAYLIGHT
BEGIN:STANDARD
TZOFFSETFROM:-0400
TZOFFSETTO:-0500
TZNAME:EST
DTSTART:20211107T060000
END:STANDARD
BEGIN:DAYLIGHT
TZOFFSETFROM:-0500
TZOFFSETTO:-0400
TZNAME:EDT
DTSTART:20220313T070000
END:DAYLIGHT
BEGIN:STANDARD
TZOFFSETFROM:-0400
TZOFFSETTO:-0500
TZNAME:EST
DTSTART:20221106T060000
END:STANDARD
BEGIN:DAYLIGHT
TZOFFSETFROM:-0500
TZOFFSETTO:-0400
TZNAME:EDT
DTSTART:20230312T070000
END:DAYLIGHT
BEGIN:STANDARD
TZOFFSETFROM:-0400
TZOFFSETTO:-0500
TZNAME:EST
DTSTART:20231105T060000
END:STANDARD
END:VTIMEZONE
BEGIN:VEVENT
DTSTART;TZID=America/New_York:20221101T080000
DTEND;TZID=America/New_York:20221101T170000
DTSTAMP:20260421T085249
CREATED:20221020T224555Z
LAST-MODIFIED:20221020T224730Z
UID:41713-1667289600-1667322000@pbcpba.org
SUMMARY:ACD Health
DESCRIPTION:LET US BULLETPROOF YOUR HEART \n\nLifespan is 20 years less than the average civilian?\nAverage age of a first heart attack is 49 versus 67 for the average civilian?\nPrevalence of cardiovascular disease is 170% greater?\nChance of cardiac-related death is 30-70 times greater during a pursuit?\n\nPALM BEACH COUNTY PBA\nNOVEMBER 1 & 2\, 2022\n8AM TO 5PM\n2100 N FLORIDA MANGO RD\nWEST PALM BEACH\, FL 33409 \nTo make an appointment\, please visit\nhttps://palmbeach111112.youcanbook.me/\nFor any questions\, please call ACD Health 516-635-7472
URL:https://pbcpba.org/events/acd-health/2022-11-01/
LOCATION:PBA Hall\, 2100 North Florida Mango Road\, West Palm Beach\, FL\, 33409\, United States
END:VEVENT
END:VCALENDAR