BEGIN:VCALENDAR
VERSION:2.0
PRODID:-//Palm Beach County PBA - ECPv6.15.20//NONSGML v1.0//EN
CALSCALE:GREGORIAN
METHOD:PUBLISH
X-WR-CALNAME:Palm Beach County PBA
X-ORIGINAL-URL:https://pbcpba.org
X-WR-CALDESC:Events for Palm Beach County PBA
REFRESH-INTERVAL;VALUE=DURATION:PT1H
X-Robots-Tag:noindex
X-PUBLISHED-TTL:PT1H
BEGIN:VTIMEZONE
TZID:America/New_York
BEGIN:DAYLIGHT
TZOFFSETFROM:-0500
TZOFFSETTO:-0400
TZNAME:EDT
DTSTART:20230312T070000
END:DAYLIGHT
BEGIN:STANDARD
TZOFFSETFROM:-0400
TZOFFSETTO:-0500
TZNAME:EST
DTSTART:20231105T060000
END:STANDARD
BEGIN:DAYLIGHT
TZOFFSETFROM:-0500
TZOFFSETTO:-0400
TZNAME:EDT
DTSTART:20240310T070000
END:DAYLIGHT
BEGIN:STANDARD
TZOFFSETFROM:-0400
TZOFFSETTO:-0500
TZNAME:EST
DTSTART:20241103T060000
END:STANDARD
BEGIN:DAYLIGHT
TZOFFSETFROM:-0500
TZOFFSETTO:-0400
TZNAME:EDT
DTSTART:20250309T070000
END:DAYLIGHT
BEGIN:STANDARD
TZOFFSETFROM:-0400
TZOFFSETTO:-0500
TZNAME:EST
DTSTART:20251102T060000
END:STANDARD
END:VTIMEZONE
BEGIN:VEVENT
DTSTART;TZID=America/New_York:20240913T150000
DTEND;TZID=America/New_York:20240913T190000
DTSTAMP:20260419T090311
CREATED:20240902T173046Z
LAST-MODIFIED:20240902T173224Z
UID:43247-1726239600-1726254000@pbcpba.org
SUMMARY:Hoewing Family Fundraiser
DESCRIPTION:
URL:https://pbcpba.org/events/hoewing-family-fundraiser/
LOCATION:Bonefish Mac\, 10880 Forest Hill Blvd\, Wellington\, FL\, 33414\, United States
END:VEVENT
BEGIN:VEVENT
DTSTART;TZID=America/New_York:20240913T170000
DTEND;TZID=America/New_York:20240913T210000
DTSTAMP:20260419T090311
CREATED:20240902T172834Z
LAST-MODIFIED:20240902T173034Z
UID:43245-1726246800-1726261200@pbcpba.org
SUMMARY:9/11 Remembrance Event
DESCRIPTION:
URL:https://pbcpba.org/events/9-11-remembrance-event/
LOCATION:PBA Hall\, 2100 North Florida Mango Road\, West Palm Beach\, FL\, 33409\, United States
END:VEVENT
BEGIN:VEVENT
DTSTART;TZID=America/New_York:20240919T180000
DTEND;TZID=America/New_York:20240919T210000
DTSTAMP:20260419T090311
CREATED:20240902T173244Z
LAST-MODIFIED:20240902T173315Z
UID:43250-1726768800-1726779600@pbcpba.org
SUMMARY:Quarter Auction
DESCRIPTION:
URL:https://pbcpba.org/events/quarter-auction/
LOCATION:PBA Hall\, 2100 North Florida Mango Road\, West Palm Beach\, FL\, 33409\, United States
END:VEVENT
END:VCALENDAR